BEGIN:VCALENDAR
VERSION:2.0
PRODID:-//Stadtkirche zu Wanfried - ECPv6.15.20//NONSGML v1.0//EN
CALSCALE:GREGORIAN
METHOD:PUBLISH
X-WR-CALNAME:Stadtkirche zu Wanfried
X-ORIGINAL-URL:https://stadtkirche-wanfried.de
X-WR-CALDESC:Veranstaltungen für Stadtkirche zu Wanfried
REFRESH-INTERVAL;VALUE=DURATION:PT1H
X-Robots-Tag:noindex
X-PUBLISHED-TTL:PT1H
BEGIN:VTIMEZONE
TZID:Europe/Berlin
BEGIN:DAYLIGHT
TZOFFSETFROM:+0100
TZOFFSETTO:+0200
TZNAME:CEST
DTSTART:20250330T010000
END:DAYLIGHT
BEGIN:STANDARD
TZOFFSETFROM:+0200
TZOFFSETTO:+0100
TZNAME:CET
DTSTART:20251026T010000
END:STANDARD
BEGIN:DAYLIGHT
TZOFFSETFROM:+0100
TZOFFSETTO:+0200
TZNAME:CEST
DTSTART:20260329T010000
END:DAYLIGHT
BEGIN:STANDARD
TZOFFSETFROM:+0200
TZOFFSETTO:+0100
TZNAME:CET
DTSTART:20261025T010000
END:STANDARD
BEGIN:DAYLIGHT
TZOFFSETFROM:+0100
TZOFFSETTO:+0200
TZNAME:CEST
DTSTART:20270328T010000
END:DAYLIGHT
BEGIN:STANDARD
TZOFFSETFROM:+0200
TZOFFSETTO:+0100
TZNAME:CET
DTSTART:20271031T010000
END:STANDARD
END:VTIMEZONE
BEGIN:VEVENT
DTSTART;TZID=Europe/Berlin:20260418T190000
DTEND;TZID=Europe/Berlin:20260418T200000
DTSTAMP:20260419T113917
CREATED:20260319T160632Z
LAST-MODIFIED:20260409T075206Z
UID:10002367-1776538800-1776542400@stadtkirche-wanfried.de
SUMMARY:Abendmusik  Violine / Orgel und Klavier mit Mariusz Januskiewicz (Violine) und Christopher Weik (Orgel/Klavier)
DESCRIPTION:Auf dem Programm stehen besondere Werke der Violin-Kammermusik: \nDie Violinsonate G-Dur (BWV 1019) ist das Abschlusswerk von Bachs wegweisendem Zyklus für Violine und obligates Cembalo und unterscheidet sich durch ihre ungewöhnliche fünfsätzige Struktur deutlich von den anderen\, meist viersätzigen Sonaten der Reihe.  \nEin markantes Alleinstellungsmerkmal ist der zentrale dritte Satz\, der als virtuoses Cembalo-Solo komponiert wurde und die Violine vollständig pausieren lässt.  Bach überarbeitete das Werk mehrfach intensiv\, wobei in den verschiedenen Fassungen alternative Sätze wie ein „Cantabile“ existierten\, bevor er die endgültige Form mit zwei schnellen Ecksätzen\, zwei langsamen Sätzen und dem Solostück in der Mitte festlegte. Die lässt sich außer auf dem Cembalo auch auf Klavier oder Orgel spielen. \nDie Violinsonate in e-Moll (KV 304) ist Mozarts einzige Violinsonate in einer Moll-Tonart und besticht durch eine außergewöhnliche emotionale Tiefe und Melancholie.  Sie entstand 1778 in Paris\, vermutlich unter dem Eindruck des Todes seiner Mutter\, und besteht im Gegensatz zu seinen sonst meist dreisätzigen Werken aus nur zwei Sätzen: einem dramatischen Allegro und einem wehmütigen Tempo di Menuetto. Das Werk gilt als Wendepunkt\, da Violine und Klavier hier als gleichberechtigte Partner agieren und nicht mehr in der traditionellen Rollenverteilung einer „begleiteten Klaviersonate“ verharren. \nDie Sechs Stücke für Violine und Orgel op. 150 von Josef Gabriel Rheinberger\, komponiert im Jahr 1887\, zählen zu den bedeutendsten Werken der Spätromantik für diese seltene Besetzung. Die Sammlung umfasst charakterstarke Einzelstücke wie das „Abendlied“\, eine virtuose „Gigue“ und eine besonders bekannte „Elegie“\, die durch ihre melodische Intensität und die harmonische Verschmelzung beider Instrumente bestechen. Anstatt einer strengen Sonatenform wählte Rheinberger hier das Format von Charakterstücken\, in denen die Violine als lyrische Solistin glänzt\, während die Orgel weit mehr als nur eine begleitende Rolle übernimmt. \nEintritt frei\, um eine freundliche Spende wird gebeten!
URL:https://stadtkirche-wanfried.de/veranstaltung/abendmusik-violine-orgel-und-klavier-mit-mariusz-januskiewicz-violine-und-christopher-weik-orgel-klavier/
LOCATION:Ev. Stadtkirche Wanfried\, Schlagdstraße 1\, Wanfried\, 37281\, Deutschland
CATEGORIES:Förderverein
ATTACH;FMTTYPE=image/jpeg:https://stadtkirche-wanfried.de/wp-content/uploads/Abendmusik.jpg
END:VEVENT
BEGIN:VEVENT
DTSTART;TZID=Europe/Berlin:20260326T193000
DTEND;TZID=Europe/Berlin:20260326T210000
DTSTAMP:20260419T113917
CREATED:20251124T131950Z
LAST-MODIFIED:20251124T131950Z
UID:10002297-1774553400-1774558800@stadtkirche-wanfried.de
SUMMARY:Ein romantischer Klavierabend mit Lukas Kranz
DESCRIPTION:Ein Abend mit bekannten Highlights der Klaviermusik!
URL:https://stadtkirche-wanfried.de/veranstaltung/ein-romantischer-klavierabend-mit-lukas-kranz/
LOCATION:Ev. Stadtkirche Wanfried\, Schlagdstraße 1\, Wanfried\, 37281\, Deutschland
CATEGORIES:Förderverein
ATTACH;FMTTYPE=image/png:https://stadtkirche-wanfried.de/wp-content/uploads/ChatGPT-Image-24.-Nov.-2025-14_11_45-1-e1763990303228.png
END:VEVENT
BEGIN:VEVENT
DTSTART;TZID=Europe/Berlin:20260213T190000
DTEND;TZID=Europe/Berlin:20260213T213000
DTSTAMP:20260419T113917
CREATED:20251124T101509Z
LAST-MODIFIED:20251124T101509Z
UID:10002295-1771009200-1771018200@stadtkirche-wanfried.de
SUMMARY:Ökumenisches\, biblisches Whisky Tasting für Damen
DESCRIPTION:Der Blick auf die Landschaft der Lowlands mit ihren saftig grünen Wiesen und den klaren Wassern\, den Schafen ruft fast zwangsläufig die Bilder aus Psalm 23 auf\, über den wir ein wenig nachdenken und reden wollen. Mario Lukes und ich freuen sich auf Sie.\nDie Distillerien der Lowlands bieten einige interessante Überraschungen. 5 Whiskys werden wir probieren und dazu werden wie gewohnt einige passende und schmackhafte Snacks gereicht.\nBitte melden Sie sich an unter kontakt@stadtkirche-wanfried.de\, weil die Plätze im Christophorus Gewölbe begrenzt sind.
URL:https://stadtkirche-wanfried.de/veranstaltung/oekumenisches-biblisches-whisky-tasting-fuer-damen/
LOCATION:Christophorus Gewölbe\, Kirchstraße 5 A\, Wanfried\, 37281\, Deutschland
CATEGORIES:Förderverein,Veranstaltung im Christophorus Gewölbe
ATTACH;FMTTYPE=image/png:https://stadtkirche-wanfried.de/wp-content/uploads/ChatGPT-Image-24.-Nov.-2025-11_00_19-e1763979082693.png
END:VEVENT
BEGIN:VEVENT
DTSTART;TZID=Europe/Berlin:20260207T180000
DTEND;TZID=Europe/Berlin:20260207T200000
DTSTAMP:20260419T113917
CREATED:20251124T114200Z
LAST-MODIFIED:20260123T164558Z
UID:10002296-1770487200-1770494400@stadtkirche-wanfried.de
SUMMARY:!!leider abgesagt!!          Eine musikalische Reise zu den britischen Inseln
DESCRIPTION:Der Posaunenchor der ev. Kirchengemeinde Sontra und der „Highländer“ Rainer Sieland bieten ein buntes nicht nur musikalisches Programm mit Highlights von den britischen Inseln.
URL:https://stadtkirche-wanfried.de/veranstaltung/eine-musikalische-reise-zu-den-britischen-inseln/
LOCATION:Ev. Stadtkirche Wanfried\, Schlagdstraße 1\, Wanfried\, 37281\, Deutschland
CATEGORIES:Förderverein
ATTACH;FMTTYPE=image/png:https://stadtkirche-wanfried.de/wp-content/uploads/ChatGPT-Image-24.-Nov.-2025-12_36_30-e1763984323516.png
END:VEVENT
END:VCALENDAR