BEGIN:VCALENDAR
VERSION:2.0
PRODID:-//Stadtkirche zu Wanfried - ECPv6.15.20//NONSGML v1.0//EN
CALSCALE:GREGORIAN
METHOD:PUBLISH
X-WR-CALNAME:Stadtkirche zu Wanfried
X-ORIGINAL-URL:https://stadtkirche-wanfried.de
X-WR-CALDESC:Veranstaltungen für Stadtkirche zu Wanfried
REFRESH-INTERVAL;VALUE=DURATION:PT1H
X-Robots-Tag:noindex
X-PUBLISHED-TTL:PT1H
BEGIN:VTIMEZONE
TZID:Europe/Berlin
BEGIN:DAYLIGHT
TZOFFSETFROM:+0100
TZOFFSETTO:+0200
TZNAME:CEST
DTSTART:20250330T010000
END:DAYLIGHT
BEGIN:STANDARD
TZOFFSETFROM:+0200
TZOFFSETTO:+0100
TZNAME:CET
DTSTART:20251026T010000
END:STANDARD
BEGIN:DAYLIGHT
TZOFFSETFROM:+0100
TZOFFSETTO:+0200
TZNAME:CEST
DTSTART:20260329T010000
END:DAYLIGHT
BEGIN:STANDARD
TZOFFSETFROM:+0200
TZOFFSETTO:+0100
TZNAME:CET
DTSTART:20261025T010000
END:STANDARD
BEGIN:DAYLIGHT
TZOFFSETFROM:+0100
TZOFFSETTO:+0200
TZNAME:CEST
DTSTART:20270328T010000
END:DAYLIGHT
BEGIN:STANDARD
TZOFFSETFROM:+0200
TZOFFSETTO:+0100
TZNAME:CET
DTSTART:20271031T010000
END:STANDARD
END:VTIMEZONE
BEGIN:VEVENT
DTSTART;TZID=Europe/Berlin:20260415T170000
DTEND;TZID=Europe/Berlin:20260415T180000
DTSTAMP:20260419T162502
CREATED:20260220T114548Z
LAST-MODIFIED:20260220T114548Z
UID:10002339-1776272400-1776276000@stadtkirche-wanfried.de
SUMMARY:Proben mit den Kirchenspatzen
DESCRIPTION:Die Kirchenspatzen proben heute von 17:00 bis 18:00 Uhr im Gemeindehaus in Wanfried.\nKinder ab 5 Jahren sind willkommen!\nWir freuen uns auf Euch! Eure Pfarrerin Kremmer und Lilly Schmerbach
URL:https://stadtkirche-wanfried.de/veranstaltung/proben-mit-den-kirchenspatzen/2026-04-15/
LOCATION:Ev. Gemeindehaus Wanfried
CATEGORIES:Gemeindetermin
END:VEVENT
BEGIN:VEVENT
DTSTART;TZID=Europe/Berlin:20260402T180000
DTEND;TZID=Europe/Berlin:20260402T190000
DTSTAMP:20260419T162502
CREATED:20260220T113344Z
LAST-MODIFIED:20260220T113344Z
UID:10002337-1775152800-1775156400@stadtkirche-wanfried.de
SUMMARY:Tischandacht und "Grüne Soße"
DESCRIPTION:Heute feiern wir eine Tischandacht. Sie sind herzlich eingeladen zu dieser Andacht und „Grüne Soße“ Essen.
URL:https://stadtkirche-wanfried.de/veranstaltung/tischandacht-und-gruene-sosse/
LOCATION:Ev. Gemeindehaus Wanfried
CATEGORIES:GD Wanfried,Gemeindetermin
END:VEVENT
BEGIN:VEVENT
DTSTART;TZID=Europe/Berlin:20260401T150000
DTEND;TZID=Europe/Berlin:20260401T170000
DTSTAMP:20260419T162502
CREATED:20260218T121014Z
LAST-MODIFIED:20260218T121014Z
UID:10002310-1775055600-1775062800@stadtkirche-wanfried.de
SUMMARY:Gemeinde-Cafe
DESCRIPTION:Herzliche Einladung zum Gemeinde-Café:\nWir treffen uns jeden 1. Mittwoch im Monat von 15.00 bis 17.00 Uhr und genießen bei Kaffee und Kuchen den Nachmittag.\nIn Gesprächen diskutieren wir vielseitige Themen: Was gab es früher in Wanfried?\nWas hat sich verändert?\nAuch aktuelle Themen sorgen für viel Gesprächsstoff: Wie geht es wem? Wann ist welche Veranstaltung? usw.\nMan sieht sich wieder\, vermisst den einen oder anderen und öfter sehen wir neue Gesichter.\nNeue Menschen kennenzulernen ist eine schöne Erfahrung!\nWir freuen uns auf alle\, die Gemeinde genießen und erleben wollen.\nKonny Rodeck\, Brigitte Wandt\, Doris Vogt und Melitta Plafki \n  \n 
URL:https://stadtkirche-wanfried.de/veranstaltung/gemeinde-cafe-2/
LOCATION:Ev. Gemeindehaus Wanfried
CATEGORIES:Gemeindetermin
END:VEVENT
BEGIN:VEVENT
DTSTART;TZID=Europe/Berlin:20260327T173000
DTEND;TZID=Europe/Berlin:20260327T193000
DTSTAMP:20260419T162502
CREATED:20251113T102525Z
LAST-MODIFIED:20251113T102525Z
UID:10002175-1774632600-1774639800@stadtkirche-wanfried.de
SUMMARY:Posaunenchor
DESCRIPTION:Die Probe des Posaunenchores findet freitags nach Absprache mit Pfarrerin Kremmer\num 18.00 Uhr im Gemeindehaus statt.\nKontakt: Pfarrerin Rosemarie Kremmer\, Tel.: 05655 /361
URL:https://stadtkirche-wanfried.de/veranstaltung/posaunenchor/2026-03-27/
LOCATION:Ev. Gemeindehaus Wanfried
CATEGORIES:Gemeindetermin
END:VEVENT
BEGIN:VEVENT
DTSTART;TZID=Europe/Berlin:20260324T163000
DTEND;TZID=Europe/Berlin:20260324T180000
DTSTAMP:20260419T162502
CREATED:20251113T102828Z
LAST-MODIFIED:20251113T102828Z
UID:10002195-1774369800-1774375200@stadtkirche-wanfried.de
SUMMARY:Konfirmandenunterricht
DESCRIPTION:Die Konfirmanden*innen treffen sich wöchentlich um 16.30 Uhr im Gemeindehaus in Wanfried mit Pfarrerin Kremmer.\nIn den Ferien findet kein Konfirmandenunterricht statt.
URL:https://stadtkirche-wanfried.de/veranstaltung/konfirmandenunterricht-3/2026-03-24/
LOCATION:Ev. Gemeindehaus Wanfried
CATEGORIES:Gemeindetermin
END:VEVENT
BEGIN:VEVENT
DTSTART;TZID=Europe/Berlin:20260320T173000
DTEND;TZID=Europe/Berlin:20260320T193000
DTSTAMP:20260419T162502
CREATED:20251113T102525Z
LAST-MODIFIED:20251113T102525Z
UID:10002174-1774027800-1774035000@stadtkirche-wanfried.de
SUMMARY:Posaunenchor
DESCRIPTION:Die Probe des Posaunenchores findet freitags nach Absprache mit Pfarrerin Kremmer\num 18.00 Uhr im Gemeindehaus statt.\nKontakt: Pfarrerin Rosemarie Kremmer\, Tel.: 05655 /361
URL:https://stadtkirche-wanfried.de/veranstaltung/posaunenchor/2026-03-20/
LOCATION:Ev. Gemeindehaus Wanfried
CATEGORIES:Gemeindetermin
END:VEVENT
BEGIN:VEVENT
DTSTART;TZID=Europe/Berlin:20260318T170000
DTEND;TZID=Europe/Berlin:20260318T180000
DTSTAMP:20260419T162502
CREATED:20251117T134807Z
LAST-MODIFIED:20251117T134807Z
UID:10002262-1773853200-1773856800@stadtkirche-wanfried.de
SUMMARY:Wanfried - Probe mit den Kirchenspatzen
DESCRIPTION:Die Kirchenspatzen proben heute von 17:00 bis 18:00 Uhr im Gemeindehaus in Wanfried.\nKinder ab 5 Jahren sind willkommen!\nWir freuen uns auf Euch! Eure Pfarrerin Kremmer und Lilly Schmerbach
URL:https://stadtkirche-wanfried.de/veranstaltung/wanfried-probe-mit-den-kirchenspatzen-4-3/2026-03-18/
LOCATION:Ev. Gemeindehaus Wanfried
CATEGORIES:Gemeindetermin
END:VEVENT
BEGIN:VEVENT
DTSTART;TZID=Europe/Berlin:20260317T163000
DTEND;TZID=Europe/Berlin:20260317T180000
DTSTAMP:20260419T162502
CREATED:20251113T102828Z
LAST-MODIFIED:20251113T102828Z
UID:10002194-1773765000-1773770400@stadtkirche-wanfried.de
SUMMARY:Konfirmandenunterricht
DESCRIPTION:Die Konfirmanden*innen treffen sich wöchentlich um 16.30 Uhr im Gemeindehaus in Wanfried mit Pfarrerin Kremmer.\nIn den Ferien findet kein Konfirmandenunterricht statt.
URL:https://stadtkirche-wanfried.de/veranstaltung/konfirmandenunterricht-3/2026-03-17/
LOCATION:Ev. Gemeindehaus Wanfried
CATEGORIES:Gemeindetermin
END:VEVENT
BEGIN:VEVENT
DTSTART;TZID=Europe/Berlin:20260313T173000
DTEND;TZID=Europe/Berlin:20260313T193000
DTSTAMP:20260419T162502
CREATED:20251113T102525Z
LAST-MODIFIED:20251113T102525Z
UID:10002173-1773423000-1773430200@stadtkirche-wanfried.de
SUMMARY:Posaunenchor
DESCRIPTION:Die Probe des Posaunenchores findet freitags nach Absprache mit Pfarrerin Kremmer\num 18.00 Uhr im Gemeindehaus statt.\nKontakt: Pfarrerin Rosemarie Kremmer\, Tel.: 05655 /361
URL:https://stadtkirche-wanfried.de/veranstaltung/posaunenchor/2026-03-13/
LOCATION:Ev. Gemeindehaus Wanfried
CATEGORIES:Gemeindetermin
END:VEVENT
BEGIN:VEVENT
DTSTART;TZID=Europe/Berlin:20260311T170000
DTEND;TZID=Europe/Berlin:20260311T180000
DTSTAMP:20260419T162502
CREATED:20251117T134807Z
LAST-MODIFIED:20251117T134807Z
UID:10002261-1773248400-1773252000@stadtkirche-wanfried.de
SUMMARY:Wanfried - Probe mit den Kirchenspatzen
DESCRIPTION:Die Kirchenspatzen proben heute von 17:00 bis 18:00 Uhr im Gemeindehaus in Wanfried.\nKinder ab 5 Jahren sind willkommen!\nWir freuen uns auf Euch! Eure Pfarrerin Kremmer und Lilly Schmerbach
URL:https://stadtkirche-wanfried.de/veranstaltung/wanfried-probe-mit-den-kirchenspatzen-4-3/2026-03-11/
LOCATION:Ev. Gemeindehaus Wanfried
CATEGORIES:Gemeindetermin
END:VEVENT
BEGIN:VEVENT
DTSTART;TZID=Europe/Berlin:20260310T163000
DTEND;TZID=Europe/Berlin:20260310T180000
DTSTAMP:20260419T162502
CREATED:20251113T102828Z
LAST-MODIFIED:20251113T102828Z
UID:10002193-1773160200-1773165600@stadtkirche-wanfried.de
SUMMARY:Konfirmandenunterricht
DESCRIPTION:Die Konfirmanden*innen treffen sich wöchentlich um 16.30 Uhr im Gemeindehaus in Wanfried mit Pfarrerin Kremmer.\nIn den Ferien findet kein Konfirmandenunterricht statt.
URL:https://stadtkirche-wanfried.de/veranstaltung/konfirmandenunterricht-3/2026-03-10/
LOCATION:Ev. Gemeindehaus Wanfried
CATEGORIES:Gemeindetermin
END:VEVENT
BEGIN:VEVENT
DTSTART;TZID=Europe/Berlin:20260306T173000
DTEND;TZID=Europe/Berlin:20260306T193000
DTSTAMP:20260419T162502
CREATED:20251113T102525Z
LAST-MODIFIED:20251113T102525Z
UID:10002172-1772818200-1772825400@stadtkirche-wanfried.de
SUMMARY:Posaunenchor
DESCRIPTION:Die Probe des Posaunenchores findet freitags nach Absprache mit Pfarrerin Kremmer\num 18.00 Uhr im Gemeindehaus statt.\nKontakt: Pfarrerin Rosemarie Kremmer\, Tel.: 05655 /361
URL:https://stadtkirche-wanfried.de/veranstaltung/posaunenchor/2026-03-06/
LOCATION:Ev. Gemeindehaus Wanfried
CATEGORIES:Gemeindetermin
END:VEVENT
BEGIN:VEVENT
DTSTART;TZID=Europe/Berlin:20260304T170000
DTEND;TZID=Europe/Berlin:20260304T180000
DTSTAMP:20260419T162502
CREATED:20251117T134807Z
LAST-MODIFIED:20251117T134807Z
UID:10002260-1772643600-1772647200@stadtkirche-wanfried.de
SUMMARY:Wanfried - Probe mit den Kirchenspatzen
DESCRIPTION:Die Kirchenspatzen proben heute von 17:00 bis 18:00 Uhr im Gemeindehaus in Wanfried.\nKinder ab 5 Jahren sind willkommen!\nWir freuen uns auf Euch! Eure Pfarrerin Kremmer und Lilly Schmerbach
URL:https://stadtkirche-wanfried.de/veranstaltung/wanfried-probe-mit-den-kirchenspatzen-4-3/2026-03-04/
LOCATION:Ev. Gemeindehaus Wanfried
CATEGORIES:Gemeindetermin
END:VEVENT
BEGIN:VEVENT
DTSTART;TZID=Europe/Berlin:20260304T150000
DTEND;TZID=Europe/Berlin:20260304T170000
DTSTAMP:20260419T162502
CREATED:20251113T104758Z
LAST-MODIFIED:20251113T104758Z
UID:10002216-1772636400-1772643600@stadtkirche-wanfried.de
SUMMARY:Wanfried - Gemeinde-Café
DESCRIPTION:Herzliche Einladung zum Gemeinde-Café:\nWir treffen uns jeden 1. Mittwoch im Monat von 15.00 bis 17.00 Uhr und genießen bei Kaffee und Kuchen den Nachmittag.\nIn Gesprächen diskutieren wir vielseitige Themen: Was gab es früher in Wanfried?\nWas hat sich verändert?\nAuch aktuelle Themen sorgen für viel Gesprächsstoff: Wie geht es wem? Wann ist welche Veranstaltung? usw.\nMan sieht sich wieder\, vermisst den einen oder anderen und öfter sehen wir neue Gesichter.\nNeue Menschen kennenzulernen ist eine schöne Erfahrung!\nWir freuen uns auf alle\, die Gemeinde genießen und erleben wollen.\nKonny Rodeck\, Brigitte Wandt\, Doris Vogt und Melitta Plafki
URL:https://stadtkirche-wanfried.de/veranstaltung/wanfried-gemeinde-cafe-4/2026-03-04/
LOCATION:Ev. Gemeindehaus Wanfried
CATEGORIES:Gemeindetermin
END:VEVENT
BEGIN:VEVENT
DTSTART;TZID=Europe/Berlin:20260303T163000
DTEND;TZID=Europe/Berlin:20260303T180000
DTSTAMP:20260419T162502
CREATED:20251113T102828Z
LAST-MODIFIED:20251113T102828Z
UID:10002192-1772555400-1772560800@stadtkirche-wanfried.de
SUMMARY:Konfirmandenunterricht
DESCRIPTION:Die Konfirmanden*innen treffen sich wöchentlich um 16.30 Uhr im Gemeindehaus in Wanfried mit Pfarrerin Kremmer.\nIn den Ferien findet kein Konfirmandenunterricht statt.
URL:https://stadtkirche-wanfried.de/veranstaltung/konfirmandenunterricht-3/2026-03-03/
LOCATION:Ev. Gemeindehaus Wanfried
CATEGORIES:Gemeindetermin
END:VEVENT
BEGIN:VEVENT
DTSTART;TZID=Europe/Berlin:20260227T173000
DTEND;TZID=Europe/Berlin:20260227T193000
DTSTAMP:20260419T162502
CREATED:20251113T102525Z
LAST-MODIFIED:20251113T102525Z
UID:10002171-1772213400-1772220600@stadtkirche-wanfried.de
SUMMARY:Posaunenchor
DESCRIPTION:Die Probe des Posaunenchores findet freitags nach Absprache mit Pfarrerin Kremmer\num 18.00 Uhr im Gemeindehaus statt.\nKontakt: Pfarrerin Rosemarie Kremmer\, Tel.: 05655 /361
URL:https://stadtkirche-wanfried.de/veranstaltung/posaunenchor/2026-02-27/
LOCATION:Ev. Gemeindehaus Wanfried
CATEGORIES:Gemeindetermin
END:VEVENT
BEGIN:VEVENT
DTSTART;TZID=Europe/Berlin:20260225T170000
DTEND;TZID=Europe/Berlin:20260225T180000
DTSTAMP:20260419T162502
CREATED:20251117T134807Z
LAST-MODIFIED:20251117T134807Z
UID:10002259-1772038800-1772042400@stadtkirche-wanfried.de
SUMMARY:Wanfried - Probe mit den Kirchenspatzen
DESCRIPTION:Die Kirchenspatzen proben heute von 17:00 bis 18:00 Uhr im Gemeindehaus in Wanfried.\nKinder ab 5 Jahren sind willkommen!\nWir freuen uns auf Euch! Eure Pfarrerin Kremmer und Lilly Schmerbach
URL:https://stadtkirche-wanfried.de/veranstaltung/wanfried-probe-mit-den-kirchenspatzen-4-3/2026-02-25/
LOCATION:Ev. Gemeindehaus Wanfried
CATEGORIES:Gemeindetermin
END:VEVENT
BEGIN:VEVENT
DTSTART;TZID=Europe/Berlin:20260225T000000
DTEND;TZID=Europe/Berlin:20260225T000000
DTSTAMP:20260419T162502
CREATED:20251113T103634Z
LAST-MODIFIED:20251113T103634Z
UID:10002198-1771977600-1771977600@stadtkirche-wanfried.de
SUMMARY:Wanfried - Treffen Arbeitskreis Diakonie
DESCRIPTION:Der Arbeitskreis Diakonie trifft sich heute im Gemeindehaus in Wanfried.\nDie genaue Zeit wird noch bekanntgegeben.
URL:https://stadtkirche-wanfried.de/veranstaltung/wanfried-treffen-arbeitskreis-diakonie/
LOCATION:Ev. Gemeindehaus Wanfried
CATEGORIES:Gemeindetermin
END:VEVENT
BEGIN:VEVENT
DTSTART;TZID=Europe/Berlin:20260224T163000
DTEND;TZID=Europe/Berlin:20260224T180000
DTSTAMP:20260419T162502
CREATED:20251113T102828Z
LAST-MODIFIED:20251113T102828Z
UID:10002191-1771950600-1771956000@stadtkirche-wanfried.de
SUMMARY:Konfirmandenunterricht
DESCRIPTION:Die Konfirmanden*innen treffen sich wöchentlich um 16.30 Uhr im Gemeindehaus in Wanfried mit Pfarrerin Kremmer.\nIn den Ferien findet kein Konfirmandenunterricht statt.
URL:https://stadtkirche-wanfried.de/veranstaltung/konfirmandenunterricht-3/2026-02-24/
LOCATION:Ev. Gemeindehaus Wanfried
CATEGORIES:Gemeindetermin
END:VEVENT
BEGIN:VEVENT
DTSTART;TZID=Europe/Berlin:20260222T170000
DTEND;TZID=Europe/Berlin:20260222T190000
DTSTAMP:20260419T162502
CREATED:20251118T151457Z
LAST-MODIFIED:20251118T151457Z
UID:10002289-1771779600-1771786800@stadtkirche-wanfried.de
SUMMARY:Wanfried - Knigge für Kinder
DESCRIPTION:Knigge für Kinder – ein genussvoller Abend\, bei dem Kinder Tischkultur mit Freude erleben!\nAm 22. Februar 2026 von 17.00 bis 19.00 Uhr im Ev. Gemeindehaus Wanfried!\nWir würden uns freuen\, Kinder im Alter von 12-16 Jahren begrüßen zu dürfen\, um gemeinsam ein festliches Abendessen zu genießen!\nPro Person bitten wir um einen Unkostenbeitrag von 10 €.\nAnmeldung erbeten bis 10. Februar 2026!\nWir freuen uns auf Ihre Anmeldung bei Marietta von Stryk\, Tel. 1617\n„Wer Menschen studieren will\, der versäume nicht\, sich unter Kinder zu mischen.“ (Adolph Freiherr)
URL:https://stadtkirche-wanfried.de/veranstaltung/wanfried-knigge-fuer-kinder/
LOCATION:Ev. Gemeindehaus Wanfried
CATEGORIES:Gemeindetermin
END:VEVENT
BEGIN:VEVENT
DTSTART;TZID=Europe/Berlin:20260220T173000
DTEND;TZID=Europe/Berlin:20260220T193000
DTSTAMP:20260419T162502
CREATED:20251113T102525Z
LAST-MODIFIED:20251113T102525Z
UID:10002170-1771608600-1771615800@stadtkirche-wanfried.de
SUMMARY:Posaunenchor
DESCRIPTION:Die Probe des Posaunenchores findet freitags nach Absprache mit Pfarrerin Kremmer\num 18.00 Uhr im Gemeindehaus statt.\nKontakt: Pfarrerin Rosemarie Kremmer\, Tel.: 05655 /361
URL:https://stadtkirche-wanfried.de/veranstaltung/posaunenchor/2026-02-20/
LOCATION:Ev. Gemeindehaus Wanfried
CATEGORIES:Gemeindetermin
END:VEVENT
BEGIN:VEVENT
DTSTART;TZID=Europe/Berlin:20260218T170000
DTEND;TZID=Europe/Berlin:20260218T180000
DTSTAMP:20260419T162502
CREATED:20251117T134807Z
LAST-MODIFIED:20251117T134807Z
UID:10002258-1771434000-1771437600@stadtkirche-wanfried.de
SUMMARY:Wanfried - Probe mit den Kirchenspatzen
DESCRIPTION:Die Kirchenspatzen proben heute von 17:00 bis 18:00 Uhr im Gemeindehaus in Wanfried.\nKinder ab 5 Jahren sind willkommen!\nWir freuen uns auf Euch! Eure Pfarrerin Kremmer und Lilly Schmerbach
URL:https://stadtkirche-wanfried.de/veranstaltung/wanfried-probe-mit-den-kirchenspatzen-4-3/2026-02-18/
LOCATION:Ev. Gemeindehaus Wanfried
CATEGORIES:Gemeindetermin
END:VEVENT
BEGIN:VEVENT
DTSTART;TZID=Europe/Berlin:20260217T163000
DTEND;TZID=Europe/Berlin:20260217T180000
DTSTAMP:20260419T162502
CREATED:20251113T102828Z
LAST-MODIFIED:20251113T102828Z
UID:10002190-1771345800-1771351200@stadtkirche-wanfried.de
SUMMARY:Konfirmandenunterricht
DESCRIPTION:Die Konfirmanden*innen treffen sich wöchentlich um 16.30 Uhr im Gemeindehaus in Wanfried mit Pfarrerin Kremmer.\nIn den Ferien findet kein Konfirmandenunterricht statt.
URL:https://stadtkirche-wanfried.de/veranstaltung/konfirmandenunterricht-3/2026-02-17/
LOCATION:Ev. Gemeindehaus Wanfried
CATEGORIES:Gemeindetermin
END:VEVENT
BEGIN:VEVENT
DTSTART;TZID=Europe/Berlin:20260213T173000
DTEND;TZID=Europe/Berlin:20260213T193000
DTSTAMP:20260419T162502
CREATED:20251113T102525Z
LAST-MODIFIED:20251113T102525Z
UID:10002169-1771003800-1771011000@stadtkirche-wanfried.de
SUMMARY:Posaunenchor
DESCRIPTION:Die Probe des Posaunenchores findet freitags nach Absprache mit Pfarrerin Kremmer\num 18.00 Uhr im Gemeindehaus statt.\nKontakt: Pfarrerin Rosemarie Kremmer\, Tel.: 05655 /361
URL:https://stadtkirche-wanfried.de/veranstaltung/posaunenchor/2026-02-13/
LOCATION:Ev. Gemeindehaus Wanfried
CATEGORIES:Gemeindetermin
END:VEVENT
BEGIN:VEVENT
DTSTART;TZID=Europe/Berlin:20260211T170000
DTEND;TZID=Europe/Berlin:20260211T180000
DTSTAMP:20260419T162502
CREATED:20251117T134724Z
LAST-MODIFIED:20251117T134724Z
UID:10002257-1770829200-1770832800@stadtkirche-wanfried.de
SUMMARY:Wanfried - Probe mit den Kirchenspatzen - FÄLLT AUS!
DESCRIPTION:Heute findet keine Probe der Kirchenspatzen statt!!!
URL:https://stadtkirche-wanfried.de/veranstaltung/wanfried-probe-mit-den-kirchenspatzen-4-2/
LOCATION:Ev. Gemeindehaus Wanfried
CATEGORIES:Gemeindetermin
END:VEVENT
BEGIN:VEVENT
DTSTART;TZID=Europe/Berlin:20260210T163000
DTEND;TZID=Europe/Berlin:20260210T180000
DTSTAMP:20260419T162502
CREATED:20251113T102828Z
LAST-MODIFIED:20251113T102828Z
UID:10002189-1770741000-1770746400@stadtkirche-wanfried.de
SUMMARY:Konfirmandenunterricht
DESCRIPTION:Die Konfirmanden*innen treffen sich wöchentlich um 16.30 Uhr im Gemeindehaus in Wanfried mit Pfarrerin Kremmer.\nIn den Ferien findet kein Konfirmandenunterricht statt.
URL:https://stadtkirche-wanfried.de/veranstaltung/konfirmandenunterricht-3/2026-02-10/
LOCATION:Ev. Gemeindehaus Wanfried
CATEGORIES:Gemeindetermin
END:VEVENT
BEGIN:VEVENT
DTSTART;TZID=Europe/Berlin:20260206T173000
DTEND;TZID=Europe/Berlin:20260206T193000
DTSTAMP:20260419T162502
CREATED:20251113T102525Z
LAST-MODIFIED:20251113T102525Z
UID:10002168-1770399000-1770406200@stadtkirche-wanfried.de
SUMMARY:Posaunenchor
DESCRIPTION:Die Probe des Posaunenchores findet freitags nach Absprache mit Pfarrerin Kremmer\num 18.00 Uhr im Gemeindehaus statt.\nKontakt: Pfarrerin Rosemarie Kremmer\, Tel.: 05655 /361
URL:https://stadtkirche-wanfried.de/veranstaltung/posaunenchor/2026-02-06/
LOCATION:Ev. Gemeindehaus Wanfried
CATEGORIES:Gemeindetermin
END:VEVENT
BEGIN:VEVENT
DTSTART;TZID=Europe/Berlin:20260204T170000
DTEND;TZID=Europe/Berlin:20260204T180000
DTSTAMP:20260419T162502
CREATED:20251117T134029Z
LAST-MODIFIED:20251117T134502Z
UID:10002256-1770224400-1770228000@stadtkirche-wanfried.de
SUMMARY:Wanfried - Probe mit den Kirchenspatzen
DESCRIPTION:Die Kirchenspatzen proben heute von 17:00 bis 18:00 Uhr im Gemeindehaus in Wanfried.\nKinder ab 5 Jahren sind willkommen!\nDer nächste Auftritt ist am 15. Februar 2026 um 16:00 Uhr in der Familienkirche.\nWir freuen uns auf Euch! Eure Pfarrerin Kremmer und Lilly Schmerbach
URL:https://stadtkirche-wanfried.de/veranstaltung/wanfried-probe-mit-den-kirchenspatzen-4/2026-02-04/
LOCATION:Ev. Gemeindehaus Wanfried
CATEGORIES:Gemeindetermin
END:VEVENT
BEGIN:VEVENT
DTSTART;TZID=Europe/Berlin:20260204T150000
DTEND;TZID=Europe/Berlin:20260204T170000
DTSTAMP:20260419T162502
CREATED:20251113T104729Z
LAST-MODIFIED:20251113T104729Z
UID:10002211-1770217200-1770224400@stadtkirche-wanfried.de
SUMMARY:Wanfried - Gemeinde-Café
DESCRIPTION:Herzliche Einladung zum Gemeinde-Café:\nWir treffen uns jeden 1. Mittwoch im Monat von 15.00 bis 17.00 Uhr und genießen bei Kaffee und Kuchen den Nachmittag.\nIn Gesprächen diskutieren wir vielseitige Themen: Was gab es früher in Wanfried?\nWas hat sich verändert?\nAuch aktuelle Themen sorgen für viel Gesprächsstoff: Wie geht es wem? Wann ist welche Veranstaltung? usw.\nMan sieht sich wieder\, vermisst den einen oder anderen und öfter sehen wir neue Gesichter.\nNeue Menschen kennenzulernen ist eine schöne Erfahrung!\nWir freuen uns auf alle\, die Gemeinde genießen und erleben wollen.\nKonny Rodeck\, Brigitte Wandt\, Doris Vogt und Melitta Plafki
URL:https://stadtkirche-wanfried.de/veranstaltung/wanfried-gemeinde-cafe-3/2026-02-04/
LOCATION:Ev. Gemeindehaus Wanfried
CATEGORIES:Gemeindetermin
END:VEVENT
BEGIN:VEVENT
DTSTART;TZID=Europe/Berlin:20260203T163000
DTEND;TZID=Europe/Berlin:20260203T180000
DTSTAMP:20260419T162502
CREATED:20251113T102828Z
LAST-MODIFIED:20251113T102828Z
UID:10002188-1770136200-1770141600@stadtkirche-wanfried.de
SUMMARY:Konfirmandenunterricht
DESCRIPTION:Die Konfirmanden*innen treffen sich wöchentlich um 16.30 Uhr im Gemeindehaus in Wanfried mit Pfarrerin Kremmer.\nIn den Ferien findet kein Konfirmandenunterricht statt.
URL:https://stadtkirche-wanfried.de/veranstaltung/konfirmandenunterricht-3/2026-02-03/
LOCATION:Ev. Gemeindehaus Wanfried
CATEGORIES:Gemeindetermin
END:VEVENT
END:VCALENDAR