BEGIN:VCALENDAR
VERSION:2.0
PRODID:-//Stadtkirche zu Wanfried - ECPv6.15.20//NONSGML v1.0//EN
CALSCALE:GREGORIAN
METHOD:PUBLISH
X-ORIGINAL-URL:https://stadtkirche-wanfried.de
X-WR-CALDESC:Veranstaltungen für Stadtkirche zu Wanfried
REFRESH-INTERVAL;VALUE=DURATION:PT1H
X-Robots-Tag:noindex
X-PUBLISHED-TTL:PT1H
BEGIN:VTIMEZONE
TZID:Europe/Berlin
BEGIN:DAYLIGHT
TZOFFSETFROM:+0100
TZOFFSETTO:+0200
TZNAME:CEST
DTSTART:20250330T010000
END:DAYLIGHT
BEGIN:STANDARD
TZOFFSETFROM:+0200
TZOFFSETTO:+0100
TZNAME:CET
DTSTART:20251026T010000
END:STANDARD
BEGIN:DAYLIGHT
TZOFFSETFROM:+0100
TZOFFSETTO:+0200
TZNAME:CEST
DTSTART:20260329T010000
END:DAYLIGHT
BEGIN:STANDARD
TZOFFSETFROM:+0200
TZOFFSETTO:+0100
TZNAME:CET
DTSTART:20261025T010000
END:STANDARD
BEGIN:DAYLIGHT
TZOFFSETFROM:+0100
TZOFFSETTO:+0200
TZNAME:CEST
DTSTART:20270328T010000
END:DAYLIGHT
BEGIN:STANDARD
TZOFFSETFROM:+0200
TZOFFSETTO:+0100
TZNAME:CET
DTSTART:20271031T010000
END:STANDARD
END:VTIMEZONE
BEGIN:VEVENT
DTSTART;TZID=Europe/Berlin:20260422T170000
DTEND;TZID=Europe/Berlin:20260422T180000
DTSTAMP:20260419T150010
CREATED:20260220T114548Z
LAST-MODIFIED:20260220T114548Z
UID:10002340-1776877200-1776880800@stadtkirche-wanfried.de
SUMMARY:Proben mit den Kirchenspatzen
DESCRIPTION:Die Kirchenspatzen proben heute von 17:00 bis 18:00 Uhr im Gemeindehaus in Wanfried.\nKinder ab 5 Jahren sind willkommen!\nWir freuen uns auf Euch! Eure Pfarrerin Kremmer und Lilly Schmerbach
URL:https://stadtkirche-wanfried.de/veranstaltung/proben-mit-den-kirchenspatzen/2026-04-22/
LOCATION:Ev. Gemeindehaus Wanfried
CATEGORIES:Gemeindetermin
END:VEVENT
BEGIN:VEVENT
DTSTART;TZID=Europe/Berlin:20260428T180000
DTEND;TZID=Europe/Berlin:20260428T190000
DTSTAMP:20260419T150010
CREATED:20251118T152000Z
LAST-MODIFIED:20251118T152000Z
UID:10002290-1777399200-1777402800@stadtkirche-wanfried.de
SUMMARY:Wanfried - Anmeldung zur Konfirmation
DESCRIPTION:Heute können Sie von18:00 Uhr bis 19:00 Uhr ihr Kind persönlich zur Konfirmation 2027 im Gemeindehaus in Wanfried anmelden.\nIhr Kind ist im April 2027 etwa 14 Jahre alt – und damit religionsmündig?\nDann freue ich mich über den Entschluss zur Konfirmation (und -soweit nicht geschehen – zuvor: zur Taufe)!\nEine Vor-Anmeldung per Mail (Pfarramt.Wanfried@ekkw.de) hilft mir\, einen ersten Überblick über die zu erwartende Gruppengröße zu gewinnen.\nLiebe Grüße sendet Pfrin. Kremmer\nTermine zum Vormerken:
URL:https://stadtkirche-wanfried.de/veranstaltung/wanfried-anmeldung-zur-konfirmation/
LOCATION:Ev. Gemeindehaus Wanfried
CATEGORIES:Gemeindetermin
END:VEVENT
BEGIN:VEVENT
DTSTART;TZID=Europe/Berlin:20260429T170000
DTEND;TZID=Europe/Berlin:20260429T180000
DTSTAMP:20260419T150010
CREATED:20260220T114548Z
LAST-MODIFIED:20260220T114548Z
UID:10002341-1777482000-1777485600@stadtkirche-wanfried.de
SUMMARY:Proben mit den Kirchenspatzen
DESCRIPTION:Die Kirchenspatzen proben heute von 17:00 bis 18:00 Uhr im Gemeindehaus in Wanfried.\nKinder ab 5 Jahren sind willkommen!\nWir freuen uns auf Euch! Eure Pfarrerin Kremmer und Lilly Schmerbach
URL:https://stadtkirche-wanfried.de/veranstaltung/proben-mit-den-kirchenspatzen/2026-04-29/
LOCATION:Ev. Gemeindehaus Wanfried
CATEGORIES:Gemeindetermin
END:VEVENT
BEGIN:VEVENT
DTSTART;TZID=Europe/Berlin:20260506T150000
DTEND;TZID=Europe/Berlin:20260506T170000
DTSTAMP:20260419T150010
CREATED:20260218T121045Z
LAST-MODIFIED:20260218T121045Z
UID:10002311-1778079600-1778086800@stadtkirche-wanfried.de
SUMMARY:Gemeinde-Cafe
DESCRIPTION:Herzliche Einladung zum Gemeinde-Café:\nWir treffen uns jeden 1. Mittwoch im Monat von 15.00 bis 17.00 Uhr und genießen bei Kaffee und Kuchen den Nachmittag.\nIn Gesprächen diskutieren wir vielseitige Themen: Was gab es früher in Wanfried?\nWas hat sich verändert?\nAuch aktuelle Themen sorgen für viel Gesprächsstoff: Wie geht es wem? Wann ist welche Veranstaltung? usw.\nMan sieht sich wieder\, vermisst den einen oder anderen und öfter sehen wir neue Gesichter.\nNeue Menschen kennenzulernen ist eine schöne Erfahrung!\nWir freuen uns auf alle\, die Gemeinde genießen und erleben wollen.\nKonny Rodeck\, Brigitte Wandt\, Doris Vogt und Melitta Plafki \n  \n 
URL:https://stadtkirche-wanfried.de/veranstaltung/gemeinde-cafe-3/
LOCATION:Ev. Gemeindehaus Wanfried
CATEGORIES:Gemeindetermin
END:VEVENT
BEGIN:VEVENT
DTSTART;TZID=Europe/Berlin:20260506T170000
DTEND;TZID=Europe/Berlin:20260506T180000
DTSTAMP:20260419T150010
CREATED:20260220T114548Z
LAST-MODIFIED:20260220T114548Z
UID:10002342-1778086800-1778090400@stadtkirche-wanfried.de
SUMMARY:Proben mit den Kirchenspatzen
DESCRIPTION:Die Kirchenspatzen proben heute von 17:00 bis 18:00 Uhr im Gemeindehaus in Wanfried.\nKinder ab 5 Jahren sind willkommen!\nWir freuen uns auf Euch! Eure Pfarrerin Kremmer und Lilly Schmerbach
URL:https://stadtkirche-wanfried.de/veranstaltung/proben-mit-den-kirchenspatzen/2026-05-06/
LOCATION:Ev. Gemeindehaus Wanfried
CATEGORIES:Gemeindetermin
END:VEVENT
BEGIN:VEVENT
DTSTART;TZID=Europe/Berlin:20260513T170000
DTEND;TZID=Europe/Berlin:20260513T180000
DTSTAMP:20260419T150010
CREATED:20260220T114548Z
LAST-MODIFIED:20260220T114548Z
UID:10002343-1778691600-1778695200@stadtkirche-wanfried.de
SUMMARY:Proben mit den Kirchenspatzen
DESCRIPTION:Die Kirchenspatzen proben heute von 17:00 bis 18:00 Uhr im Gemeindehaus in Wanfried.\nKinder ab 5 Jahren sind willkommen!\nWir freuen uns auf Euch! Eure Pfarrerin Kremmer und Lilly Schmerbach
URL:https://stadtkirche-wanfried.de/veranstaltung/proben-mit-den-kirchenspatzen/2026-05-13/
LOCATION:Ev. Gemeindehaus Wanfried
CATEGORIES:Gemeindetermin
END:VEVENT
BEGIN:VEVENT
DTSTART;TZID=Europe/Berlin:20260520T170000
DTEND;TZID=Europe/Berlin:20260520T180000
DTSTAMP:20260419T150010
CREATED:20260220T114548Z
LAST-MODIFIED:20260220T114548Z
UID:10002344-1779296400-1779300000@stadtkirche-wanfried.de
SUMMARY:Proben mit den Kirchenspatzen
DESCRIPTION:Die Kirchenspatzen proben heute von 17:00 bis 18:00 Uhr im Gemeindehaus in Wanfried.\nKinder ab 5 Jahren sind willkommen!\nWir freuen uns auf Euch! Eure Pfarrerin Kremmer und Lilly Schmerbach
URL:https://stadtkirche-wanfried.de/veranstaltung/proben-mit-den-kirchenspatzen/2026-05-20/
LOCATION:Ev. Gemeindehaus Wanfried
CATEGORIES:Gemeindetermin
END:VEVENT
BEGIN:VEVENT
DTSTART;TZID=Europe/Berlin:20260527T170000
DTEND;TZID=Europe/Berlin:20260527T180000
DTSTAMP:20260419T150010
CREATED:20260220T114548Z
LAST-MODIFIED:20260220T114548Z
UID:10002345-1779901200-1779904800@stadtkirche-wanfried.de
SUMMARY:Proben mit den Kirchenspatzen
DESCRIPTION:Die Kirchenspatzen proben heute von 17:00 bis 18:00 Uhr im Gemeindehaus in Wanfried.\nKinder ab 5 Jahren sind willkommen!\nWir freuen uns auf Euch! Eure Pfarrerin Kremmer und Lilly Schmerbach
URL:https://stadtkirche-wanfried.de/veranstaltung/proben-mit-den-kirchenspatzen/2026-05-27/
LOCATION:Ev. Gemeindehaus Wanfried
CATEGORIES:Gemeindetermin
END:VEVENT
BEGIN:VEVENT
DTSTART;TZID=Europe/Berlin:20260603T170000
DTEND;TZID=Europe/Berlin:20260603T180000
DTSTAMP:20260419T150010
CREATED:20260220T114548Z
LAST-MODIFIED:20260220T114548Z
UID:10002346-1780506000-1780509600@stadtkirche-wanfried.de
SUMMARY:Proben mit den Kirchenspatzen
DESCRIPTION:Die Kirchenspatzen proben heute von 17:00 bis 18:00 Uhr im Gemeindehaus in Wanfried.\nKinder ab 5 Jahren sind willkommen!\nWir freuen uns auf Euch! Eure Pfarrerin Kremmer und Lilly Schmerbach
URL:https://stadtkirche-wanfried.de/veranstaltung/proben-mit-den-kirchenspatzen/2026-06-03/
LOCATION:Ev. Gemeindehaus Wanfried
CATEGORIES:Gemeindetermin
END:VEVENT
END:VCALENDAR